BEGIN:VCALENDAR
VERSION:2.0
PRODID:-//Black Parakeetz - ECPv6.15.20//NONSGML v1.0//EN
CALSCALE:GREGORIAN
METHOD:PUBLISH
X-WR-CALNAME:Black Parakeetz
X-ORIGINAL-URL:https://blackparakeetztoo.com
X-WR-CALDESC:Events for Black Parakeetz
REFRESH-INTERVAL;VALUE=DURATION:PT1H
X-Robots-Tag:noindex
X-PUBLISHED-TTL:PT1H
BEGIN:VTIMEZONE
TZID:America/New_York
BEGIN:DAYLIGHT
TZOFFSETFROM:-0500
TZOFFSETTO:-0400
TZNAME:EDT
DTSTART:20250309T070000
END:DAYLIGHT
BEGIN:STANDARD
TZOFFSETFROM:-0400
TZOFFSETTO:-0500
TZNAME:EST
DTSTART:20251102T060000
END:STANDARD
BEGIN:DAYLIGHT
TZOFFSETFROM:-0500
TZOFFSETTO:-0400
TZNAME:EDT
DTSTART:20260308T070000
END:DAYLIGHT
BEGIN:STANDARD
TZOFFSETFROM:-0400
TZOFFSETTO:-0500
TZNAME:EST
DTSTART:20261101T060000
END:STANDARD
BEGIN:DAYLIGHT
TZOFFSETFROM:-0500
TZOFFSETTO:-0400
TZNAME:EDT
DTSTART:20270314T070000
END:DAYLIGHT
BEGIN:STANDARD
TZOFFSETFROM:-0400
TZOFFSETTO:-0500
TZNAME:EST
DTSTART:20271107T060000
END:STANDARD
END:VTIMEZONE
BEGIN:VEVENT
DTSTART;TZID=America/New_York:20260424T180000
DTEND;TZID=America/New_York:20260424T200000
DTSTAMP:20260424T110829
CREATED:20260317T050033Z
LAST-MODIFIED:20260330T155650Z
UID:10002546-1777053600-1777060800@blackparakeetztoo.com
SUMMARY:Friday Afterwork Vibes: Unwind\, Sip & Create!
DESCRIPTION:Friday Afterwork Vibes!: 6pm – 8pm \n✨Kick off your weekend with the perfect Friday afterwork shake-it-off art vibe! Join us for a guided paint session designed to help you unwind\, laugh\, and get creative after a long week.🎉 \nWhat’s Included:\n• Guided painting session 👩🏽‍🎨\n• Complimentary cocktail 🍹\n• All art supplies provided 🎨\n• Chill R&B & soul tunes 🎶\n• Full bar & food menu available 🍔🍷\n• Perfect for afterwork fun\, date night\, or solo unwind ✨ \n\nTime: Fri. Apr. 24th\, 2026\nDuration: 2hrs\nTime: 6pm- 8pm\nPrice: $50.00
URL:https://blackparakeetztoo.com/event/friday-afterwork-vibes-unwind-sip-create/
LOCATION:Black Parakeetz\, 298 Main street\, Nyack\, NY\, 10960\, United States
ATTACH;FMTTYPE=image/webp:https://blackparakeetztoo.com/wp-content/uploads/2026/02/ChatGPT-Image-Feb-20-2026-10_03_14-PM.webp
ORGANIZER;CN="Black Parakeetz Paint%2C Swig & Sing!":MAILTO:info@blackparakeetztoo.com
END:VEVENT
BEGIN:VEVENT
DTSTART;TZID=America/New_York:20260424T210000
DTEND;TZID=America/New_York:20260424T230000
DTSTAMP:20260424T110829
CREATED:20260317T050028Z
LAST-MODIFIED:20260330T151827Z
UID:10002586-1777064400-1777071600@blackparakeetztoo.com
SUMMARY:Friday Late Night Vibes: Paint & Party!
DESCRIPTION:Step out and let your creativity flow at our Late Night Vibes paint session! Kick back with a complimentary cocktail\, groove to energetic beats\, and paint freely in a fun\, party atmosphere. \nWhat’s Included:• Guided painting experience 👩🏽‍🎨• Complimentary cocktail 🍹• All art supplies provided 🎨• High-energy party beats 🎶• Full bar & food menu available 🍔🍷• Perfect for couples\, friends\, or solo nights out ✨ \n\nTime: Fri. Apr. 24h\, 2026\nDuration: 2hrs\nTime: 9pm- 11pm\nPrice: $55.00
URL:https://blackparakeetztoo.com/event/friday-late-night-vibes-paint-party-7/
LOCATION:Black Parakeetz\, 298 Main street\, Nyack\, NY\, 10960\, United States
ATTACH;FMTTYPE=image/jpeg:https://blackparakeetztoo.com/wp-content/uploads/2026/03/brandy-muisc-and-flowers.jpg
ORGANIZER;CN="Black Parakeetz Paint%2C Swig & Sing!":MAILTO:info@blackparakeetztoo.com
END:VEVENT
END:VCALENDAR